Package: omicsViewer Version: 1.15.0 Command: rm -rf omicsViewer.buildbin-libdir && mkdir omicsViewer.buildbin-libdir && /Users/biocbuild/BBS/utils/build-universal.sh omicsViewer_1.15.0.tar.gz /Library/Frameworks/R.framework/Resources/bin/R omicsViewer.buildbin-libdir StartedAt: 2025-11-13 23:49:12 -0500 (Thu, 13 Nov 2025) EndedAt: 2025-11-13 23:49:30 -0500 (Thu, 13 Nov 2025) EllapsedTime: 17.4 seconds RetCode: 0 Status: OK PackageFile: omicsViewer_1.15.0.tgz PackageFileSize: 4.402 MiB