Package: omicsViewer Version: 1.15.0 Maintainer: Chen Meng MaintainerEmail: mengchen18 at gmail.com git_url: https://git.bioconductor.org/packages/omicsViewer git_branch: devel git_last_commit: e91edf4 git_last_commit_date: 2025-10-29 11:16:46 -0500 (Wed, 29 Oct 2025)