Package: omicsPrint Version: 1.31.0 Command: rm -rf omicsPrint.buildbin-libdir && mkdir omicsPrint.buildbin-libdir && /Users/biocbuild/BBS/utils/build-universal.sh omicsPrint_1.31.0.tar.gz /Library/Frameworks/R.framework/Resources/bin/R omicsPrint.buildbin-libdir StartedAt: 2025-11-14 23:44:17 -0500 (Fri, 14 Nov 2025) EndedAt: 2025-11-14 23:44:30 -0500 (Fri, 14 Nov 2025) EllapsedTime: 13.3 seconds RetCode: 0 Status: OK PackageFile: omicsPrint_1.31.0.tgz PackageFileSize: 7.42 MiB