Package: omicplotR Version: 1.31.0 Command: /home/biocbuild/bbs-3.23-bioc/R/bin/R CMD INSTALL omicplotR StartedAt: 2025-11-14 15:35:07 -0500 (Fri, 14 Nov 2025) EndedAt: 2025-11-14 15:35:31 -0500 (Fri, 14 Nov 2025) EllapsedTime: 23.2 seconds RetCode: 0 Status: OK