Package: omicplotR Version: 1.31.0 Command: /Library/Frameworks/R.framework/Resources/bin/R CMD INSTALL omicplotR StartedAt: 2025-11-13 15:20:15 -0500 (Thu, 13 Nov 2025) EndedAt: 2025-11-13 15:20:24 -0500 (Thu, 13 Nov 2025) EllapsedTime: 9.4 seconds RetCode: 0 Status: OK