Package: omicplotR Version: 1.31.0 Command: /Library/Frameworks/R.framework/Resources/bin/R CMD check --install=check:omicplotR.install-out.txt --library=/Library/Frameworks/R.framework/Resources/library --no-vignettes --timings omicplotR_1.31.0.tar.gz StartedAt: 2025-11-13 21:30:15 -0500 (Thu, 13 Nov 2025) EndedAt: 2025-11-13 21:31:02 -0500 (Thu, 13 Nov 2025) EllapsedTime: 46.5 seconds RetCode: 0 Status: OK CheckDir: omicplotR.Rcheck Warnings: 0