Package: omicplotR Version: 1.31.0 Command: /Library/Frameworks/R.framework/Resources/bin/R CMD build --keep-empty-dirs --no-resave-data omicplotR StartedAt: 2025-11-14 17:11:01 -0500 (Fri, 14 Nov 2025) EndedAt: 2025-11-14 17:11:13 -0500 (Fri, 14 Nov 2025) EllapsedTime: 12.2 seconds RetCode: 0 Status: OK PackageFile: omicplotR_1.31.0.tar.gz PackageFileSize: 1.641 MiB