Package: omicplotR Version: 1.31.0 Command: rm -rf omicplotR.buildbin-libdir && mkdir omicplotR.buildbin-libdir && /Users/biocbuild/BBS/utils/build-universal.sh omicplotR_1.31.0.tar.gz /Library/Frameworks/R.framework/Resources/bin/R omicplotR.buildbin-libdir StartedAt: 2025-11-13 23:49:06 -0500 (Thu, 13 Nov 2025) EndedAt: 2025-11-13 23:49:19 -0500 (Thu, 13 Nov 2025) EllapsedTime: 12.3 seconds RetCode: 0 Status: OK PackageFile: omicplotR_1.31.0.tgz PackageFileSize: 1.184 MiB