Package: omicade4 Version: 1.51.0 Command: /home/biocbuild/bbs-3.23-bioc/R/bin/R CMD build --keep-empty-dirs --no-resave-data omicade4 StartedAt: 2025-11-13 19:02:33 -0500 (Thu, 13 Nov 2025) EndedAt: 2025-11-13 19:03:06 -0500 (Thu, 13 Nov 2025) EllapsedTime: 33.1 seconds RetCode: 0 Status: OK PackageFile: omicade4_1.51.0.tar.gz PackageFileSize: 544.3 KiB