Package: omicade4 Version: 1.51.0 Command: /Library/Frameworks/R.framework/Resources/bin/R CMD build --keep-empty-dirs --no-resave-data omicade4 StartedAt: 2025-11-13 17:13:49 -0500 (Thu, 13 Nov 2025) EndedAt: 2025-11-13 17:14:05 -0500 (Thu, 13 Nov 2025) EllapsedTime: 16.2 seconds RetCode: 0 Status: OK PackageFile: omicade4_1.51.0.tar.gz PackageFileSize: 544.4 KiB