Package: omicade4 Version: 1.51.0 Command: rm -rf omicade4.buildbin-libdir && mkdir omicade4.buildbin-libdir && /Users/biocbuild/BBS/utils/build-universal.sh omicade4_1.51.0.tar.gz /Library/Frameworks/R.framework/Resources/bin/R omicade4.buildbin-libdir StartedAt: 2025-11-13 23:49:04 -0500 (Thu, 13 Nov 2025) EndedAt: 2025-11-13 23:49:16 -0500 (Thu, 13 Nov 2025) EllapsedTime: 11.3 seconds RetCode: 0 Status: OK PackageFile: omicade4_1.51.0.tgz PackageFileSize: 613.6 KiB