Package: omicade4 Version: 1.51.0 Maintainer: Chen Meng MaintainerEmail: mengchen18 at gmail.com git_url: https://git.bioconductor.org/packages/omicade4 git_branch: devel git_last_commit: 13c6995 git_last_commit_date: 2025-10-29 10:16:27 -0500 (Wed, 29 Oct 2025)