Package: omicRexposome Version: 1.33.0 Command: rm -rf omicRexposome.buildbin-libdir && mkdir omicRexposome.buildbin-libdir && /Users/biocbuild/BBS/utils/build-universal.sh omicRexposome_1.33.0.tar.gz /Library/Frameworks/R.framework/Resources/bin/R omicRexposome.buildbin-libdir StartedAt: 2025-11-14 23:44:14 -0500 (Fri, 14 Nov 2025) EndedAt: 2025-11-14 23:44:39 -0500 (Fri, 14 Nov 2025) EllapsedTime: 24.6 seconds RetCode: 0 Status: OK PackageFile: omicRexposome_1.33.0.tgz PackageFileSize: 2.912 MiB