Package: omada Version: 1.13.0 Command: /Library/Frameworks/R.framework/Resources/bin/R CMD INSTALL omada StartedAt: 2025-11-14 15:07:01 -0500 (Fri, 14 Nov 2025) EndedAt: 2025-11-14 15:07:07 -0500 (Fri, 14 Nov 2025) EllapsedTime: 6.1 seconds RetCode: 0 Status: OK