Package: omada Version: 1.13.0 Command: /Library/Frameworks/R.framework/Resources/bin/R CMD build --keep-empty-dirs --no-resave-data omada StartedAt: 2025-11-14 17:10:50 -0500 (Fri, 14 Nov 2025) EndedAt: 2025-11-14 17:11:30 -0500 (Fri, 14 Nov 2025) EllapsedTime: 40.4 seconds RetCode: 0 Status: OK PackageFile: omada_1.13.0.tar.gz PackageFileSize: 204.4 KiB