Package: omada Version: 1.13.0 Command: rm -rf omada.buildbin-libdir && mkdir omada.buildbin-libdir && /Users/biocbuild/BBS/utils/build-universal.sh omada_1.13.0.tar.gz /Library/Frameworks/R.framework/Resources/bin/R omada.buildbin-libdir StartedAt: 2025-11-14 23:44:10 -0500 (Fri, 14 Nov 2025) EndedAt: 2025-11-14 23:44:17 -0500 (Fri, 14 Nov 2025) EllapsedTime: 7.2 seconds RetCode: 0 Status: OK PackageFile: omada_1.13.0.tgz PackageFileSize: 308.7 KiB