Package: oligoClasses Version: 1.73.0 Command: /Library/Frameworks/R.framework/Resources/bin/R CMD INSTALL oligoClasses StartedAt: 2025-11-13 15:12:54 -0500 (Thu, 13 Nov 2025) EndedAt: 2025-11-13 15:13:08 -0500 (Thu, 13 Nov 2025) EllapsedTime: 14.4 seconds RetCode: 0 Status: OK