Package: oligoClasses Version: 1.73.0 Command: rm -rf oligoClasses.buildbin-libdir && mkdir oligoClasses.buildbin-libdir && /Users/biocbuild/BBS/utils/build-universal.sh oligoClasses_1.73.0.tar.gz /Library/Frameworks/R.framework/Resources/bin/R oligoClasses.buildbin-libdir StartedAt: 2025-11-13 23:49:00 -0500 (Thu, 13 Nov 2025) EndedAt: 2025-11-13 23:49:19 -0500 (Thu, 13 Nov 2025) EllapsedTime: 18.4 seconds RetCode: 0 Status: OK PackageFile: oligoClasses_1.73.0.tgz PackageFileSize: 1.377 MiB