Package: oligoClasses Version: 1.73.0 Maintainer: Benilton Carvalho and Robert Scharpf MaintainerEmail: rscharpf at jhsph.edu git_url: https://git.bioconductor.org/packages/oligoClasses git_branch: devel git_last_commit: 924ec0a git_last_commit_date: 2025-10-29 09:59:50 -0500 (Wed, 29 Oct 2025)