Package: odseq Version: 1.39.0 Command: /Library/Frameworks/R.framework/Resources/bin/R CMD INSTALL odseq StartedAt: 2025-11-13 15:11:30 -0500 (Thu, 13 Nov 2025) EndedAt: 2025-11-13 15:11:36 -0500 (Thu, 13 Nov 2025) EllapsedTime: 6.4 seconds RetCode: 0 Status: OK