Package: odseq Version: 1.39.0 Command: /Library/Frameworks/R.framework/Resources/bin/R CMD build --keep-empty-dirs --no-resave-data odseq StartedAt: 2025-11-12 16:51:03 -0500 (Wed, 12 Nov 2025) EndedAt: 2025-11-12 16:51:18 -0500 (Wed, 12 Nov 2025) EllapsedTime: 14.2 seconds RetCode: 0 Status: OK PackageFile: odseq_1.39.0.tar.gz PackageFileSize: 229.8 KiB