Package: odseq Version: 1.39.0 Command: rm -rf odseq.buildbin-libdir && mkdir odseq.buildbin-libdir && /Users/biocbuild/BBS/utils/build-universal.sh odseq_1.39.0.tar.gz /Library/Frameworks/R.framework/Resources/bin/R odseq.buildbin-libdir StartedAt: 2025-11-12 21:05:03 -0500 (Wed, 12 Nov 2025) EndedAt: 2025-11-12 21:05:11 -0500 (Wed, 12 Nov 2025) EllapsedTime: 8.2 seconds RetCode: 0 Status: OK PackageFile: odseq_1.39.0.tgz PackageFileSize: 248.1 KiB