Package: octad Version: 1.13.0 Command: /home/biocbuild/bbs-3.23-bioc/R/bin/R CMD INSTALL octad StartedAt: 2025-11-13 15:55:57 -0500 (Thu, 13 Nov 2025) EndedAt: 2025-11-13 15:56:55 -0500 (Thu, 13 Nov 2025) EllapsedTime: 57.7 seconds RetCode: 0 Status: OK