Package: octad Version: 1.13.0 Command: /home/biocbuild/bbs-3.23-bioc/R/bin/R CMD build --keep-empty-dirs --no-resave-data octad StartedAt: 2025-11-11 19:06:46 -0500 (Tue, 11 Nov 2025) EndedAt: 2025-11-11 19:10:07 -0500 (Tue, 11 Nov 2025) EllapsedTime: 201.2 seconds RetCode: 0 Status: OK PackageFile: octad_1.13.0.tar.gz PackageFileSize: 1.328 MiB