Package: octad Version: 1.13.0 Command: /Library/Frameworks/R.framework/Resources/bin/R CMD INSTALL octad StartedAt: 2025-11-12 15:44:04 -0500 (Wed, 12 Nov 2025) EndedAt: 2025-11-12 15:44:05 -0500 (Wed, 12 Nov 2025) EllapsedTime: 1.0 seconds RetCode: 1 Status: ERROR