############################################################################## ############################################################################## ### ### Running command: ### ### /Library/Frameworks/R.framework/Resources/bin/R CMD build --keep-empty-dirs --no-resave-data octad ### ############################################################################## ############################################################################## * checking for file ‘octad/DESCRIPTION’ ... OK * preparing ‘octad’: * checking DESCRIPTION meta-information ... OK * installing the package (it is needed to build vignettes) ----------------------------------- ERROR: dependencies ‘edgeR’, ‘RUVSeq’, ‘rhdf5’, ‘GSVA’ are not available for package ‘octad’ Perhaps try a variation of: install.packages(c('edgeR', 'RUVSeq', 'rhdf5', 'GSVA')) * removing ‘/private/var/folders/r0/l4fjk6cj5xj0j3brt4bplpl40000gt/T/RtmpyNmR54/Rinst1455c116830ce/octad’ ----------------------------------- ERROR: package installation failed