Package: octad Version: 1.13.0 Maintainer: E. Chekalin MaintainerEmail: eygen.chekalin at gmail.com git_url: https://git.bioconductor.org/packages/octad git_branch: devel git_last_commit: 27dcaeb git_last_commit_date: 2025-10-29 11:19:54 -0500 (Wed, 29 Oct 2025)