Package: nullranges Version: 1.17.0 Command: /home/biocbuild/bbs-3.23-bioc/R/bin/R CMD build --keep-empty-dirs --no-resave-data nullranges StartedAt: 2025-11-11 19:06:37 -0500 (Tue, 11 Nov 2025) EndedAt: 2025-11-11 19:06:49 -0500 (Tue, 11 Nov 2025) EllapsedTime: 12.0 seconds RetCode: 1 Status: ERROR PackageFile: None PackageFileSize: NA