Package: nullranges Version: 1.17.0 Command: /Library/Frameworks/R.framework/Resources/bin/R CMD INSTALL nullranges StartedAt: 2025-11-12 15:35:37 -0500 (Wed, 12 Nov 2025) EndedAt: 2025-11-12 15:35:43 -0500 (Wed, 12 Nov 2025) EllapsedTime: 5.4 seconds RetCode: 1 Status: ERROR