Package: nucleoSim Version: 1.39.0 Command: /home/biocbuild/bbs-3.23-bioc/R/bin/R CMD build --keep-empty-dirs --no-resave-data nucleoSim StartedAt: 2025-11-13 19:01:44 -0500 (Thu, 13 Nov 2025) EndedAt: 2025-11-13 19:01:56 -0500 (Thu, 13 Nov 2025) EllapsedTime: 12.0 seconds RetCode: 0 Status: OK PackageFile: nucleoSim_1.39.0.tar.gz PackageFileSize: 455.8 KiB