Package: nucleoSim Version: 1.39.0 Command: /Library/Frameworks/R.framework/Resources/bin/R CMD INSTALL nucleoSim StartedAt: 2025-11-12 15:44:52 -0500 (Wed, 12 Nov 2025) EndedAt: 2025-11-12 15:44:55 -0500 (Wed, 12 Nov 2025) EllapsedTime: 3.2 seconds RetCode: 0 Status: OK