Package: nucleoSim Version: 1.39.0 Command: rm -rf nucleoSim.buildbin-libdir && mkdir nucleoSim.buildbin-libdir && /Users/biocbuild/BBS/utils/build-universal.sh nucleoSim_1.39.0.tar.gz /Library/Frameworks/R.framework/Resources/bin/R nucleoSim.buildbin-libdir StartedAt: 2025-11-12 21:04:57 -0500 (Wed, 12 Nov 2025) EndedAt: 2025-11-12 21:05:01 -0500 (Wed, 12 Nov 2025) EllapsedTime: 4.1 seconds RetCode: 0 Status: OK PackageFile: nucleoSim_1.39.0.tgz PackageFileSize: 496.7 KiB