Package: nucleR Version: 2.43.0 Command: /home/biocbuild/bbs-3.23-bioc/R/bin/R CMD INSTALL nucleR StartedAt: 2025-11-13 15:52:04 -0500 (Thu, 13 Nov 2025) EndedAt: 2025-11-13 15:52:41 -0500 (Thu, 13 Nov 2025) EllapsedTime: 37.3 seconds RetCode: 0 Status: OK