Package: nucleR Version: 2.43.0 Command: /home/biocbuild/bbs-3.23-bioc/R/bin/R CMD build --keep-empty-dirs --no-resave-data nucleR StartedAt: 2025-11-13 19:01:47 -0500 (Thu, 13 Nov 2025) EndedAt: 2025-11-13 19:02:49 -0500 (Thu, 13 Nov 2025) EllapsedTime: 62.1 seconds RetCode: 0 Status: OK PackageFile: nucleR_2.43.0.tar.gz PackageFileSize: 1.799 MiB