Package: nucleR Version: 2.43.0 Command: /Library/Frameworks/R.framework/Resources/bin/R CMD INSTALL nucleR StartedAt: 2025-11-13 15:29:13 -0500 (Thu, 13 Nov 2025) EndedAt: 2025-11-13 15:29:27 -0500 (Thu, 13 Nov 2025) EllapsedTime: 14.7 seconds RetCode: 0 Status: OK