Package: nucleR Version: 2.43.0 Command: /Library/Frameworks/R.framework/Resources/bin/R CMD build --keep-empty-dirs --no-resave-data nucleR StartedAt: 2025-11-12 16:50:52 -0500 (Wed, 12 Nov 2025) EndedAt: 2025-11-12 16:51:20 -0500 (Wed, 12 Nov 2025) EllapsedTime: 27.3 seconds RetCode: 0 Status: OK PackageFile: nucleR_2.43.0.tar.gz PackageFileSize: 1.823 MiB