Package: nuCpos Version: 1.29.0 Command: /home/biocbuild/bbs-3.23-bioc/R/bin/R CMD INSTALL nuCpos StartedAt: 2025-11-14 15:03:33 -0500 (Fri, 14 Nov 2025) EndedAt: 2025-11-14 15:03:44 -0500 (Fri, 14 Nov 2025) EllapsedTime: 11.2 seconds RetCode: 0 Status: OK