Package: nuCpos Version: 1.29.0 Command: /home/biocbuild/bbs-3.23-bioc/R/bin/R CMD build --keep-empty-dirs --no-resave-data nuCpos StartedAt: 2025-11-13 19:01:47 -0500 (Thu, 13 Nov 2025) EndedAt: 2025-11-13 19:01:59 -0500 (Thu, 13 Nov 2025) EllapsedTime: 12.0 seconds RetCode: 0 Status: OK PackageFile: nuCpos_1.29.0.tar.gz PackageFileSize: 2.392 MiB