Package: nuCpos Version: 1.29.0 Command: /Library/Frameworks/R.framework/Resources/bin/R CMD build --keep-empty-dirs --no-resave-data nuCpos StartedAt: 2025-11-13 17:13:26 -0500 (Thu, 13 Nov 2025) EndedAt: 2025-11-13 17:13:33 -0500 (Thu, 13 Nov 2025) EllapsedTime: 7.1 seconds RetCode: 0 Status: OK PackageFile: nuCpos_1.29.0.tar.gz PackageFileSize: 2.392 MiB