Package: nuCpos Version: 1.29.0 Command: rm -rf nuCpos.buildbin-libdir && mkdir nuCpos.buildbin-libdir && /Users/biocbuild/BBS/utils/build-universal.sh nuCpos_1.29.0.tar.gz /Library/Frameworks/R.framework/Resources/bin/R nuCpos.buildbin-libdir StartedAt: 2025-11-13 23:48:55 -0500 (Thu, 13 Nov 2025) EndedAt: 2025-11-13 23:49:00 -0500 (Thu, 13 Nov 2025) EllapsedTime: 5.1 seconds RetCode: 0 Status: OK PackageFile: nuCpos_1.29.0.tgz PackageFileSize: 1.713 MiB