Package: nuCpos Version: 1.29.0 Maintainer: Hiroaki Kato MaintainerEmail: hkato at med.shimane-u.ac.jp git_url: https://git.bioconductor.org/packages/nuCpos git_branch: devel git_last_commit: e871f9d git_last_commit_date: 2025-10-29 10:46:55 -0500 (Wed, 29 Oct 2025)