Package: notame Version: 1.1.0 Command: /home/biocbuild/bbs-3.23-bioc/R/bin/R CMD INSTALL notame StartedAt: 2025-11-16 15:24:30 -0500 (Sun, 16 Nov 2025) EndedAt: 2025-11-16 15:24:54 -0500 (Sun, 16 Nov 2025) EllapsedTime: 24.2 seconds RetCode: 0 Status: OK