Package: notame Version: 1.1.0 Command: /Library/Frameworks/R.framework/Resources/bin/R CMD INSTALL notame StartedAt: 2025-11-13 15:14:58 -0500 (Thu, 13 Nov 2025) EndedAt: 2025-11-13 15:15:09 -0500 (Thu, 13 Nov 2025) EllapsedTime: 10.8 seconds RetCode: 0 Status: OK