Package: notame Version: 1.1.0 Command: /Library/Frameworks/R.framework/Resources/bin/R CMD build --keep-empty-dirs --no-resave-data notame StartedAt: 2025-11-13 17:13:02 -0500 (Thu, 13 Nov 2025) EndedAt: 2025-11-13 17:14:11 -0500 (Thu, 13 Nov 2025) EllapsedTime: 68.9 seconds RetCode: 0 Status: OK PackageFile: notame_1.1.0.tar.gz PackageFileSize: 867.2 KiB