Package: notame Version: 1.1.0 Command: rm -rf notame.buildbin-libdir && mkdir notame.buildbin-libdir && /Users/biocbuild/BBS/utils/build-universal.sh notame_1.1.0.tar.gz /Library/Frameworks/R.framework/Resources/bin/R notame.buildbin-libdir StartedAt: 2025-11-14 23:43:53 -0500 (Fri, 14 Nov 2025) EndedAt: 2025-11-14 23:44:06 -0500 (Fri, 14 Nov 2025) EllapsedTime: 12.3 seconds RetCode: 0 Status: OK PackageFile: notame_1.1.0.tgz PackageFileSize: 979.6 KiB