Package: normr Version: 1.37.0 Command: /Library/Frameworks/R.framework/Resources/bin/R CMD INSTALL normr StartedAt: 2025-11-13 15:16:27 -0500 (Thu, 13 Nov 2025) EndedAt: 2025-11-13 15:16:45 -0500 (Thu, 13 Nov 2025) EllapsedTime: 17.8 seconds RetCode: 0 Status: OK