Package: normr Version: 1.37.0 Command: rm -rf normr.buildbin-libdir && mkdir normr.buildbin-libdir && /Users/biocbuild/BBS/utils/build-universal.sh normr_1.37.0.tar.gz /Library/Frameworks/R.framework/Resources/bin/R normr.buildbin-libdir StartedAt: 2025-11-13 23:48:45 -0500 (Thu, 13 Nov 2025) EndedAt: 2025-11-13 23:49:06 -0500 (Thu, 13 Nov 2025) EllapsedTime: 21.5 seconds RetCode: 0 Status: OK PackageFile: normr_1.37.0.tgz PackageFileSize: 4.2 MiB