Package: normalize450K Version: 1.39.0 Command: /Library/Frameworks/R.framework/Resources/bin/R CMD INSTALL normalize450K StartedAt: 2025-11-13 15:32:59 -0500 (Thu, 13 Nov 2025) EndedAt: 2025-11-13 15:33:07 -0500 (Thu, 13 Nov 2025) EllapsedTime: 8.3 seconds RetCode: 0 Status: OK