Package: normalize450K Version: 1.39.0 Command: /Library/Frameworks/R.framework/Resources/bin/R CMD build --keep-empty-dirs --no-resave-data normalize450K StartedAt: 2025-11-13 17:12:54 -0500 (Thu, 13 Nov 2025) EndedAt: 2025-11-13 17:13:05 -0500 (Thu, 13 Nov 2025) EllapsedTime: 11.1 seconds RetCode: 0 Status: OK PackageFile: normalize450K_1.39.0.tar.gz PackageFileSize: 3.138 MiB