Package: normalize450K Version: 1.39.0 Command: rm -rf normalize450K.buildbin-libdir && mkdir normalize450K.buildbin-libdir && /Users/biocbuild/BBS/utils/build-universal.sh normalize450K_1.39.0.tar.gz /Library/Frameworks/R.framework/Resources/bin/R normalize450K.buildbin-libdir StartedAt: 2025-11-13 23:48:44 -0500 (Thu, 13 Nov 2025) EndedAt: 2025-11-13 23:48:55 -0500 (Thu, 13 Nov 2025) EllapsedTime: 11.2 seconds RetCode: 0 Status: OK PackageFile: normalize450K_1.39.0.tgz PackageFileSize: 3.137 MiB